BEGIN:VCALENDAR
VERSION:2.0
PRODID:-//ChamberMaster//Event Calendar 2.0//EN
METHOD:PUBLISH
X-PUBLISHED-TTL:P3D
REFRESH-INTERVAL:P3D
CALSCALE:GREGORIAN
BEGIN:VEVENT
DTSTART:20110626T140000Z
DTEND:20110626T200000Z
X-MICROSOFT-CDO-ALLDAYEVENT:FALSE
SUMMARY:Patch N' Powder Gang Sporting Clays 2011 Fundraiser
DESCRIPTION:9:00 a.m.-3:00 p.m. Patch N' Powder Gang Range\, north of Beatrice on Hwy 77 to Hackberry Road\, turn west (left) on Hackberry\, go 4 miles\, turn north 1/2 mile\, on east side of the road -- follow the signs.  Public invited to join in the fun.  Questions?  Contact Lloyd Warren at 402-228-1391 or 402-239-4783 or Judy Warren at 402-239-4784.
X-ALT-DESC;FMTTYPE=text/html:9:00 a.m.-3:00 p.m. Patch N&#39\; Powder Gang Range\, north of Beatrice on Hwy 77 to Hackberry Road\, turn west (left) on Hackberry\, go 4 miles\, turn north 1/2 mile\, on east side of the road -- follow the signs.&nbsp\; Public invited to join in the fun.&nbsp\; Questions?&nbsp\; Contact Lloyd Warren at 402-228-1391 or 402-239-4783 or Judy Warren at 402-239-4784.
LOCATION:
UID:e.41.4865
SEQUENCE:3
DTSTAMP:20260424T165652Z
URL:https://business.beatricechamber.com/events/details/patch-n-powder-gang-sporting-clays-2011-fundraiser-06-26-2011-4865
END:VEVENT

END:VCALENDAR
