BEGIN:VCALENDAR
VERSION:2.0
PRODID:-//ChamberMaster//Event Calendar 2.0//EN
METHOD:PUBLISH
X-PUBLISHED-TTL:P3D
REFRESH-INTERVAL:P3D
CALSCALE:GREGORIAN
BEGIN:VEVENT
DTSTART;VALUE=DATE:20110724
DTEND;VALUE=DATE:20110725
TRANSP:TRANSPARENT
X-MICROSOFT-CDO-ALLDAYEVENT:TRUE
SUMMARY:Patch 'N Powder to Host Clays Shoots
DESCRIPTION:The Patch 'N Powder Gang will host monthly sporting clay shoots through October.  Shoots are held the fourth Sunday of each month at the Patch 'N Powder range\, located northwest of Beatrice.\n\n\n\nFor more information\, contact Lloyd Warren at 402-228-1391 or 402-239-4783 or Judy Warren at 402-239-4784.
X-ALT-DESC;FMTTYPE=text/html:The Patch &#39\;N Powder Gang will host monthly sporting clay shoots through October.&nbsp\; Shoots are held the fourth Sunday of each month at the Patch &#39\;N Powder range\, located northwest of Beatrice.<br />\n<br />\nFor more information\, contact Lloyd Warren at 402-228-1391 or 402-239-4783 or Judy Warren at 402-239-4784.
LOCATION:
UID:e.41.4909
SEQUENCE:3
DTSTAMP:20260424T153152Z
URL:https://business.beatricechamber.com/events/details/patch-n-powder-to-host-clays-shoots-07-24-2011-4909
END:VEVENT

END:VCALENDAR
