BEGIN:VCALENDAR
VERSION:2.0
PRODID:-//ChamberMaster//Event Calendar 2.0//EN
METHOD:PUBLISH
X-PUBLISHED-TTL:P3D
REFRESH-INTERVAL:P3D
CALSCALE:GREGORIAN
BEGIN:VEVENT
DTSTART;VALUE=DATE:20100424
DTEND;VALUE=DATE:20100425
TRANSP:TRANSPARENT
X-MICROSOFT-CDO-ALLDAYEVENT:TRUE
SUMMARY:PATCH Spring Fitness Campaign 3/27/10
DESCRIPTION:Annual PATCH event walk begins Saturday\, March 27\, 2010 Five-week wellness program encourages everyone to develop sustainable healthy exercise and eating habits. Weekly walk starts at 1 p.m.\, unless otherwise noted\, Saturday\, March 27: 9 a.m. - 11 a.m.SCC-Truman Center\, Beatrice Community Hospital and Health Center Health Fair.  Walk on campus trail.   Sign up for event here or at Beatrice Public Library. Saturday\, April 3\, 1 p.m.:Chautauqa Park Tabernacle\, after Legion Easter Egg Hunt Saturday\, April 10\, 1 p.m.:Trailhead Park Pavilion\, across from Gage County Museum.  Partner with Beatrice Animal Shelter\; walk your (or Shelter) dog! Saturday\, April 17\, 1 p.m.:Riverside shelter\; walk through the park to Court Street Saturday\, April 24\, 1 p.m.:Homestead National Monument.   Sign in at Education Center.  Partner with Homestead National Monument "March for Parks" event going on 9 a.m. - 3 p.m. For more information\, contact Beatrice Community Hospital/Gage County PATCH walking program coordinators Sharon Langvardt\, 228-3386\; email: slangvardt@bvbh.net\; or Carol Remmers\, 223-4066\; email: Carol.Remmers@mosaicinfo.org\; or Laureen Riedesel 223-3584\; email: lriedesel@beatrice.lib.ne.us
X-ALT-DESC;FMTTYPE=text/html:<div>Annual PATCH&nbsp\;event walk begins Saturday\, March 27\, 2010</div><div>&nbsp\;</div><div>Five-week wellness program encourages everyone to develop sustainable healthy exercise and eating habits.</div><div>&nbsp\;</div><div>Weekly walk starts at 1 p.m.\, unless otherwise noted\,</div><div>&nbsp\;</div><div>Saturday\, March 27: 9 a.m. - 11 a.m.</div><div>SCC-Truman Center\, Beatrice Community Hospital and Health Center Health Fair.&nbsp\;&nbsp\;</div><div>Walk on campus trail.&nbsp\;&nbsp\; Sign up for event here or at Beatrice Public Library.</div><div>&nbsp\;</div><div>Saturday\, April 3\, 1 p.m.:</div><div>Chautauqa Park Tabernacle\, after Legion Easter Egg Hunt</div><div>&nbsp\;</div><div>Saturday\, April 10\, 1 p.m.:</div><div>Trailhead Park Pavilion\, across from Gage County Museum.&nbsp\; Partner with Beatrice Animal Shelter\; walk your (or Shelter) dog!</div><div>&nbsp\;</div><div>Saturday\, April 17\, 1 p.m.:</div><div>Riverside shelter\; walk through the park to Court Street</div><div>&nbsp\;</div><div>Saturday\, April 24\, 1 p.m.:</div><div>Homestead National Monument.&nbsp\; &nbsp\;Sign in at Education Center.&nbsp\; Partner with Homestead National Monument &quot\;March for Parks&quot\; event going on 9 a.m. - 3 p.m.</div><div>&nbsp\;</div><div>For more information\, contact Beatrice Community Hospital/Gage County PATCH&nbsp\;walking program coordinators Sharon Langvardt\, 228-3386\; email: <a href="mailto:slangvardt@bvbh.net">slangvardt@bvbh.net</a>\; or Carol Remmers\, 223-4066\; email: <a href="mailto:Carol.Remmers@mosaicinfo.org">Carol.Remmers@mosaicinfo.org</a>\; or Laureen Riedesel 223-3584\; email: <a href="mailto:lriedesel@beatrice.lib.ne.us">lriedesel@beatrice.lib.ne.us</a></div><div>&nbsp\;</div>
LOCATION:
UID:e.41.1940
SEQUENCE:3
DTSTAMP:20260425T135432Z
URL:https://business.beatricechamber.com/events/details/patch-spring-fitness-campaign-3-27-10-04-24-2010-1940
END:VEVENT

END:VCALENDAR
