BEGIN:VCALENDAR
VERSION:2.0
PRODID:-//ChamberMaster//Event Calendar 2.0//EN
METHOD:PUBLISH
X-PUBLISHED-TTL:P3D
REFRESH-INTERVAL:P3D
CALSCALE:GREGORIAN
BEGIN:VEVENT
DTSTART;VALUE=DATE:20110416
DTEND;VALUE=DATE:20110417
TRANSP:TRANSPARENT
X-MICROSOFT-CDO-ALLDAYEVENT:TRUE
SUMMARY:PATCH "Spring Into Fitness" Trail Walk
DESCRIPTION:Beatrice Community Hospital PATCH "Spring Into Fitness" Trail Walk\n\n\n\nSaturday\, April 16\n\n1 pm\n\n\n\nBeatrice YMCA (walk to Chautauqua Park & Back)\n\n\n\nFree\n\n\n\nwww.beatricene.com/patch
X-ALT-DESC;FMTTYPE=text/html:Beatrice Community Hospital PATCH &quot\;Spring Into Fitness&quot\; Trail Walk<br />\n<br />\nSaturday\, April 16<br />\n1 pm<br />\n<br />\nBeatrice YMCA (walk to Chautauqua Park &amp\; Back)<br />\n<br />\nFree<br />\n<br />\n<a href="http://www.beatricene.com/patch">www.beatricene.com/patch</a>
LOCATION:
UID:e.41.4589
SEQUENCE:3
DTSTAMP:20260424T195331Z
URL:https://business.beatricechamber.com/events/details/patch-spring-into-fitness-trail-walk-04-16-2011-4589
END:VEVENT

END:VCALENDAR
