BEGIN:VCALENDAR
VERSION:2.0
PRODID:-//ChamberMaster//Event Calendar 2.0//EN
METHOD:PUBLISH
X-PUBLISHED-TTL:P3D
REFRESH-INTERVAL:P3D
CALSCALE:GREGORIAN
BEGIN:VEVENT
DTSTART;VALUE=DATE:20101102
DTEND;VALUE=DATE:20101105
TRANSP:TRANSPARENT
X-MICROSOFT-CDO-ALLDAYEVENT:TRUE
SUMMARY:Patient Appreciation Days
DESCRIPTION:During Patient Appreciation Days\, Inline Healing will be offering free and discounted services for patients who  bring in 5 food items to be donated to St. John's Food Pantry. On Tuesday\, November 2\, existing patients will receive a free adjustment. On Wednesday\, November 3\, existing acupuncture patients will receive $20 off an acupuncture session and new acupuncture patients will have the exam fee waived. On Thursday\, November 4\, new chiropractic patients will receive a free new patient exam and x-rays. The theme for the week is ¡Fiesta!
X-ALT-DESC;FMTTYPE=text/html:During Patient Appreciation Days\, Inline Healing will be offering free and discounted services for patients who  bring in 5 food items to be donated to St. John's Food Pantry. On Tuesday\, November 2\, existing patients will receive a free adjustment. On Wednesday\, November 3\, existing acupuncture patients will receive $20 off an acupuncture session and new acupuncture patients will have the exam fee waived. On Thursday\, November 4\, new chiropractic patients will receive a free new patient exam and x-rays. The theme for the week is ¡Fiesta!
LOCATION:Inline Healing 223 S. 6th St. Beatrice\, NE 68310
UID:e.41.2756
SEQUENCE:3
DTSTAMP:20260425T032505Z
URL:https://business.beatricechamber.com/events/details/patient-appreciation-days-11-02-2010-2756
END:VEVENT

END:VCALENDAR
