BEGIN:VCALENDAR
VERSION:2.0
PRODID:-//ChamberMaster//Event Calendar 2.0//EN
METHOD:PUBLISH
X-PUBLISHED-TTL:P3D
REFRESH-INTERVAL:P3D
CALSCALE:GREGORIAN
BEGIN:VEVENT
DTSTART:20091029T140000Z
DTEND:20091029T150000Z
X-MICROSOFT-CDO-ALLDAYEVENT:FALSE
SUMMARY:Patients First Bus Tour
DESCRIPTION:HANDS OFF my Health Care Bus TourOctober 29   9:00 a.m.\nRobertson Park\nCorner of 9th and High Street\nBeatrice\, NE
X-ALT-DESC;FMTTYPE=text/html:<div><strong>HANDS OFF my Health Care Bus Tour</strong></div><div><strong>October 29 &ndash\; 9:00 a.m.<br /></strong>Robertson Park<br />Corner of 9th and High Street<br />Beatrice\, NE</div>
LOCATION:
UID:e.41.1500
SEQUENCE:3
DTSTAMP:20260425T221410Z
URL:https://business.beatricechamber.com/events/details/patients-first-bus-tour-10-29-2009-1500
END:VEVENT

END:VCALENDAR
