BEGIN:VCALENDAR
VERSION:2.0
PRODID:-//ChamberMaster//Event Calendar 2.0//EN
METHOD:PUBLISH
X-PUBLISHED-TTL:P3D
REFRESH-INTERVAL:P3D
CALSCALE:GREGORIAN
BEGIN:VEVENT
DTSTART;VALUE=DATE:20110623
DTEND;VALUE=DATE:20110624
TRANSP:TRANSPARENT
X-MICROSOFT-CDO-ALLDAYEVENT:TRUE
SUMMARY:Pawnee County Arts Council Annual Ice Cream Social and Band Concert
DESCRIPTION:6:30 p.m.\, ice cream and cakes\; 7 p.m. concert by Southeast Nebraska Community Band.\n\n\n\nFreewill donations.  Bring lawn chairs or blankets.  Pawnee County Arts Council memberships available.\n\n\n\nFor more information contact Virginia Schlender at 402-852-2037.
X-ALT-DESC;FMTTYPE=text/html:6:30 p.m.\, ice cream and cakes\; 7 p.m. concert by Southeast Nebraska Community Band.<br />\n<br />\nFreewill donations.&nbsp\; Bring lawn chairs or blankets.&nbsp\; Pawnee County Arts Council memberships available.<br />\n<br />\nFor more information contact Virginia Schlender at 402-852-2037.
LOCATION:
UID:e.41.4923
SEQUENCE:3
DTSTAMP:20260424T170021Z
URL:https://business.beatricechamber.com/events/details/pawnee-county-arts-council-annual-ice-cream-social-and-band-concert-06-23-2011-4923
END:VEVENT

END:VCALENDAR
