BEGIN:VCALENDAR
VERSION:2.0
PRODID:-//ChamberMaster//Event Calendar 2.0//EN
METHOD:PUBLISH
X-PUBLISHED-TTL:P3D
REFRESH-INTERVAL:P3D
CALSCALE:GREGORIAN
BEGIN:VEVENT
DTSTART:20091111T010000Z
DTEND:20091111T020000Z
X-MICROSOFT-CDO-ALLDAYEVENT:FALSE
SUMMARY:Personal Safety for Women presented by Beatrice Police Dept
DESCRIPTION:Beatrice Police Department will be offeringfree educational programs to the public. The first program will be presented by Chief Bruce LangPersonal Safety for WomenTuesday\, November 10\, 2009Beatrice Public LibraryOne hour long program
X-ALT-DESC;FMTTYPE=text/html:<div>Beatrice Police Department will be offering</div><div>free educational programs to the public.</div><div>&nbsp\;</div><div>The first program will be presented by Chief Bruce Lang</div><div>Personal Safety for Women</div><div>Tuesday\, November 10\, 2009</div><div>Beatrice Public Library</div><div>One hour long program</div><div>&nbsp\;</div><div>&nbsp\;</div>
LOCATION:
UID:e.41.1486
SEQUENCE:3
DTSTAMP:20260425T205710Z
URL:https://business.beatricechamber.com/events/details/personal-safety-for-women-presented-by-beatrice-police-dept-11-10-2009-1486
END:VEVENT

END:VCALENDAR
