BEGIN:VCALENDAR
VERSION:2.0
PRODID:-//ChamberMaster//Event Calendar 2.0//EN
METHOD:PUBLISH
X-PUBLISHED-TTL:P3D
REFRESH-INTERVAL:P3D
CALSCALE:GREGORIAN
BEGIN:VEVENT
DTSTART:20091010T140000Z
DTEND:20091010T180000Z
X-MICROSOFT-CDO-ALLDAYEVENT:FALSE
SUMMARY:Pharmaceutical Take-Back Event
DESCRIPTION:Gage County Pharmaceutical Take-Back Event Saturday\, October 10\, 20099:00 am - 1:00 pm BPS Administration Building Parking Lot(6th & High Street\, Beatrice) Clean out your medicine cabinet!  Bring in your unused or outdated prescription andover-the-counter medicaitons and we will dispose of htem for you for FREE!  Proper disposal of our medicine keeps our water clean and our communities safe!  For more information\, including a list of items accepted\, please call:Keep Beatrice Beautiful 228-4576Gage County MAPS 223-1500 x 1059
X-ALT-DESC;FMTTYPE=text/html:<div>Gage County Pharmaceutical&nbsp\;Take-Back Event</div><div>&nbsp\;</div><div>Saturday\, October 10\, 2009</div><div>9:00 am - 1:00 pm</div><div>&nbsp\;</div><div>BPS Administration Building Parking Lot</div><div>(6th &amp\; High Street\, Beatrice)</div><div>&nbsp\;</div><div>Clean out your medicine cabinet!&nbsp\; Bring in your unused or outdated prescription and</div><div>over-the-counter medicaitons and we will dispose of htem for you for FREE!&nbsp\;</div><div>&nbsp\;</div><div>Proper disposal of our medicine keeps our water clean and our communities safe!&nbsp\;</div><div>&nbsp\;</div><div>For more information\, including a list of items accepted\, please call:</div><div>Keep Beatrice Beautiful 228-4576</div><div>Gage County MAPS 223-1500 x 1059</div>
LOCATION:
UID:e.41.1451
SEQUENCE:3
DTSTAMP:20260425T220639Z
URL:https://business.beatricechamber.com/events/details/pharmaceutical-take-back-event-10-10-2009-1451
END:VEVENT

END:VCALENDAR
