BEGIN:VCALENDAR
VERSION:2.0
PRODID:-//ChamberMaster//Event Calendar 2.0//EN
METHOD:PUBLISH
X-PUBLISHED-TTL:P3D
REFRESH-INTERVAL:P3D
CALSCALE:GREGORIAN
BEGIN:VEVENT
DTSTART;VALUE=DATE:20110205
DTEND;VALUE=DATE:20110206
TRANSP:TRANSPARENT
X-MICROSOFT-CDO-ALLDAYEVENT:TRUE
SUMMARY:Pheasants Forever 2011 Banquet
DESCRIPTION:Southeast Nebraska Pheasants Forever 2011 Banquet\n\n	\n\n	Saturday\, February 5\, 2011\n\n	5:30 p.m. - Social Hour\n\n	6:30 p.m. - Dinner\n\n	7:30 p.m. - Live Auction\n\n	\n\n	Holiday Inn Express\, Beatrice\, NE\n\n	\n\n	Tickets - $45\n\n	Spouse - $20\n\n	Ringneck (16 & Under) - $15\n\n	\n\n	Live Auction\, Silent Auction\, Youth Raffle\, Women's Raffle\, Games\, Fun for All Ages\, Chance to Win 6 Different Hunting Guns\n\n	\n\n	Advance Tickets - Ryan 239-4277 or Chad 239-4837
X-ALT-DESC;FMTTYPE=text/html:<p>\n	Southeast Nebraska Pheasants Forever 2011 Banquet<br />\n	<br />\n	Saturday\, February 5\, 2011<br />\n	5:30 p.m. - Social Hour<br />\n	6:30 p.m. - Dinner<br />\n	7:30 p.m. - Live Auction<br />\n	<br />\n	Holiday Inn Express\, Beatrice\, NE<br />\n	<br />\n	Tickets - $45<br />\n	Spouse - $20<br />\n	Ringneck (16 &amp\; Under) - $15<br />\n	<br />\n	Live Auction\, Silent Auction\, Youth Raffle\, Women&#39\;s Raffle\, Games\, Fun for All Ages\, Chance to Win 6 Different Hunting Guns<br />\n	<br />\n	Advance Tickets - Ryan 239-4277 or Chad 239-4837</p>\n
LOCATION:
UID:e.41.3168
SEQUENCE:3
DTSTAMP:20260424T225601Z
URL:https://business.beatricechamber.com/events/details/pheasants-forever-2011-banquet-02-05-2011-3168
END:VEVENT

END:VCALENDAR
