BEGIN:VCALENDAR
VERSION:2.0
PRODID:-//ChamberMaster//Event Calendar 2.0//EN
METHOD:PUBLISH
X-PUBLISHED-TTL:P3D
REFRESH-INTERVAL:P3D
CALSCALE:GREGORIAN
BEGIN:VEVENT
DTSTART;VALUE=DATE:20100320
DTEND;VALUE=DATE:20100321
TRANSP:TRANSPARENT
X-MICROSOFT-CDO-ALLDAYEVENT:TRUE
SUMMARY:Pheasants Forever Banquet
DESCRIPTION:Pheasants Forever19th Annual BanquetSoutheast Chapter Saturday\, March 20\, 2010Beatrice Eagle's Club Social Hour: 5 p.m.Buffet Dinner: 6:30 p.m. (catered by Ricky's Cafe)Auctiion: 7:30 p.m. Membership and meal is $40\, gues/spouse tickets are $15\, and Ringneck tickets (youth under 16) are $10.
X-ALT-DESC;FMTTYPE=text/html:<div><span style="font-size: small">Pheasants Forever</span></div><div><span style="font-size: small">19th Annual Banquet</span></div><div><span style="font-size: small">Southeast&nbsp\;Chapter</span></div><div>&nbsp\;</div><div><span style="font-size: small">Saturday\, March 20\, 2010</span></div><div><span style="font-size: small">Beatrice Eagle's Club</span></div><div>&nbsp\;</div><div><span style="font-size: x-small">Social Hour: 5 p.m.</span></div><div><span style="font-size: x-small">Buffet Dinner: 6:30 p.m. (catered by Ricky's Cafe)</span></div><div><span style="font-size: x-small">Auctiion: 7:30 p.m.</span></div><div>&nbsp\;</div><div>Membership and meal is $40\, gues/spouse tickets are $15\, and Ringneck tickets (youth under 16) are $10.</div>
LOCATION:
UID:e.41.1662
SEQUENCE:3
DTSTAMP:20260425T154500Z
URL:https://business.beatricechamber.com/events/details/pheasants-forever-banquet-03-20-2010-1662
END:VEVENT

END:VCALENDAR
