BEGIN:VCALENDAR
VERSION:2.0
PRODID:-//ChamberMaster//Event Calendar 2.0//EN
METHOD:PUBLISH
X-PUBLISHED-TTL:P3D
REFRESH-INTERVAL:P3D
CALSCALE:GREGORIAN
BEGIN:VEVENT
DTSTART;VALUE=DATE:20120324
DTEND;VALUE=DATE:20120325
TRANSP:TRANSPARENT
X-MICROSOFT-CDO-ALLDAYEVENT:TRUE
SUMMARY:Pheasants Forever Banquet
DESCRIPTION:Pheasants Forever\n\n22nd Annual Banquet\n\n\n\nSunday\, March 24\n\nHoliday Inn Express in Beatrice\n\n\n\nDoors will open at 5:30 pm with dinner at 6:30 pm.  Activities will include a social hour\, games\, dinner\, a youth raffle\, silent auction and a live auction.\n\n\n\nTickets will be available at the door or can be pre-purchased by contacting Ryan Timmerman at 402-239-4277.
X-ALT-DESC;FMTTYPE=text/html:Pheasants Forever<br />\n22nd Annual Banquet<br />\n<br />\nSunday\, March 24<br />\nHoliday Inn Express in Beatrice<br />\n<br />\nDoors will open at 5:30 pm with dinner at 6:30 pm.&nbsp\; Activities will include a social hour\, games\, dinner\, a youth raffle\, silent auction and a live auction.<br />\n<br />\nTickets will be available at the door or can be pre-purchased by contacting Ryan Timmerman at 402-239-4277.
LOCATION:
UID:e.41.5376
SEQUENCE:3
DTSTAMP:20260422T172851Z
URL:https://business.beatricechamber.com/events/details/pheasants-forever-banquet-03-24-2012-5376
END:VEVENT

END:VCALENDAR
