BEGIN:VCALENDAR
VERSION:2.0
PRODID:-//ChamberMaster//Event Calendar 2.0//EN
METHOD:PUBLISH
X-PUBLISHED-TTL:P3D
REFRESH-INTERVAL:P3D
CALSCALE:GREGORIAN
BEGIN:VEVENT
DTSTART:20090718T140000Z
DTEND:20090718T190000Z
X-MICROSOFT-CDO-ALLDAYEVENT:FALSE
SUMMARY:Pheasants Forever Golf Tournament
DESCRIPTION:Southeast Nebraska Pheasants Forever 5th Annual Golf TournamentBeatrice Country Club9:00 amJuly 18\, 2009 Registration for 4-person scramble will start at 8 am with shotgun start at 9 am$55 per player with range balls and cart provided For more information\, contact Ryan Timmerman 239-4277 orChad Warren 239-4837
X-ALT-DESC;FMTTYPE=text/html:<div>Southeast Nebraska Pheasants Forever 5th Annual Golf Tournament</div><div>Beatrice Country Club</div><div>9:00 am</div><div>July 18\, 2009</div><div>&nbsp\;</div><div>Registration for 4-person scramble will start at 8 am with shotgun start at 9 am</div><div>$55 per player with range balls and cart provided</div><div>&nbsp\;</div><div>For more information\, contact Ryan Timmerman 239-4277 or</div><div>Chad Warren 239-4837</div>
LOCATION:
UID:e.41.1278
SEQUENCE:3
DTSTAMP:20260426T025212Z
URL:https://business.beatricechamber.com/events/details/pheasants-forever-golf-tournament-07-18-2009-1278
END:VEVENT

END:VCALENDAR
