BEGIN:VCALENDAR
VERSION:2.0
PRODID:-//ChamberMaster//Event Calendar 2.0//EN
METHOD:PUBLISH
X-PUBLISHED-TTL:P3D
REFRESH-INTERVAL:P3D
CALSCALE:GREGORIAN
BEGIN:VEVENT
DTSTART:20120629T173000Z
DTEND:20120629T173000Z
X-MICROSOFT-CDO-ALLDAYEVENT:FALSE
SUMMARY:Pheasants Forever Golf Tourney
DESCRIPTION:The Southeast Nebraska Pheasants Forever's fifth-annual golf tournament will be held Friday\, June 29\, at the Beatrice Country Club.\n\n\n\nThe tournament will be a four-person scramble with registration at 12:30 p.m. and a shotgun start at 1:30 p.m.\n\n\n\nThe entry fee is $60 a person\, with range balls and golf carts provided.\n\n\n\nThere will be flag prizes\, as well as a gun raffle.\n\n\n\nFor more information\, call Ryan Timmerman at 402-239-4277.
X-ALT-DESC;FMTTYPE=text/html:The Southeast Nebraska&nbsp\;Pheasants&nbsp\;Forever&#39\;s fifth-annual&nbsp\;golf tournament&nbsp\;will be held&nbsp\;Friday\, June 29\,&nbsp\;at the Beatrice Country Club.<br />\n<br />\nThe tournament will be&nbsp\;a four-person&nbsp\;scramble with registration&nbsp\;at 12:30 p.m. and&nbsp\;a shotgun start at&nbsp\;1:30 p.m.<br />\n<br />\nThe entry fee is $60 a person\,&nbsp\;with&nbsp\;range balls and golf carts provided.<br />\n<br />\nThere will be flag prizes\, as well as a gun&nbsp\;raffle.<br />\n<br />\nFor more information\, call&nbsp\;Ryan Timmerman&nbsp\;at 402-239-4277.
LOCATION:
UID:e.41.5721
SEQUENCE:3
DTSTAMP:20260422T131012Z
URL:https://business.beatricechamber.com/events/details/pheasants-forever-golf-tourney-06-29-2012-5721
END:VEVENT

END:VCALENDAR
