BEGIN:VCALENDAR
VERSION:2.0
PRODID:-//ChamberMaster//Event Calendar 2.0//EN
METHOD:PUBLISH
X-PUBLISHED-TTL:P3D
REFRESH-INTERVAL:P3D
CALSCALE:GREGORIAN
BEGIN:VEVENT
DTSTART:20090920T140000Z
DTEND:20090920T200000Z
X-MICROSOFT-CDO-ALLDAYEVENT:FALSE
SUMMARY:Pheasants Forever Sponsors Shoot for Youth
DESCRIPTION:Pheasants Forever will hold youth sporting clays shoot on Saturday\, September 20that the Patch N Powder Gang SHooting range northwest of Beatrice. All youth 12 - 16 years old with a hunter's safety card are eligible to participate.Youth MUST be accompanied by adult. Cost for adults the first round will be $15\, subsequent rounds will be $12No charge for youths for the First round\, but $12 will be charged for sebsequent rounds
X-ALT-DESC;FMTTYPE=text/html:<div>Pheasants Forever will hold youth sporting clays shoot on Saturday\, September 20th</div><div>at the Patch N Powder Gang SHooting range northwest of Beatrice.</div><div>&nbsp\;</div><div>All youth 12 - 16 years old with a hunter's safety card are eligible to participate.</div><div>Youth MUST be accompanied by adult.</div><div>&nbsp\;</div><div>Cost for adults the first round will be $15\, subsequent rounds will be $12</div><div>No charge for youths for the First round\, but $12 will be charged for sebsequent rounds</div><div>&nbsp\;</div>
LOCATION:
UID:e.41.1446
SEQUENCE:3
DTSTAMP:20260425T234048Z
URL:https://business.beatricechamber.com/events/details/pheasants-forever-sponsors-shoot-for-youth-09-20-2009-1446
END:VEVENT

END:VCALENDAR
