BEGIN:VCALENDAR
VERSION:2.0
PRODID:-//ChamberMaster//Event Calendar 2.0//EN
METHOD:PUBLISH
X-PUBLISHED-TTL:P3D
REFRESH-INTERVAL:P3D
CALSCALE:GREGORIAN
BEGIN:VEVENT
DTSTART;VALUE=DATE:20120303
DTEND;VALUE=DATE:20120304
TRANSP:TRANSPARENT
X-MICROSOFT-CDO-ALLDAYEVENT:TRUE
SUMMARY:Phil and Pam Morgan & Daughter in Concert
DESCRIPTION:Phil and Pam Morgan and their daughter Kayla in concert:\n\n\n\nSaturday\, March 3\n\n7 pm\n\n\n\nVocal and instrumental concert with heart-touching stories and zany comedy\n\n\n\nChrist Community Church\, 2727 Lincoln Blvd\, Beatrice\, NE\n\n\n\nFreewill offering accepted.
X-ALT-DESC;FMTTYPE=text/html:Phil and Pam Morgan and their daughter Kayla in concert:<br />\n<br />\nSaturday\, March 3<br />\n7 pm<br />\n<br />\nVocal and instrumental concert with heart-touching stories and zany comedy<br />\n<br />\nChrist Community Church\, 2727 Lincoln Blvd\, Beatrice\, NE<br />\n<br />\nFreewill offering accepted.
LOCATION:
UID:e.41.5378
SEQUENCE:3
DTSTAMP:20260422T173602Z
URL:https://business.beatricechamber.com/events/details/phil-and-pam-morgan-daughter-in-concert-03-03-2012-5378
END:VEVENT

END:VCALENDAR
