BEGIN:VCALENDAR
VERSION:2.0
PRODID:-//ChamberMaster//Event Calendar 2.0//EN
METHOD:PUBLISH
X-PUBLISHED-TTL:P3D
REFRESH-INTERVAL:P3D
CALSCALE:GREGORIAN
BEGIN:VEVENT
DTSTART;VALUE=DATE:20100301
DTEND;VALUE=DATE:20100302
TRANSP:TRANSPARENT
X-MICROSOFT-CDO-ALLDAYEVENT:TRUE
SUMMARY:Photo editing workshop
DESCRIPTION:"Photo Editing Made Simple"Homestead Computer Workshop Monday\, March 1\, 20107:30 p\,m.Southeast Community College--Beatrice CampusFord Hall's Computer Lab (Use south entrance between the greenhouses) Jennifer Konecky\, Lincoln Camera Club\, will demonstrate basics of photo editing. SCC Adult Education workshop fee $3.  Anyone is welcome to attend.  For more information\, call 228-3157.
X-ALT-DESC;FMTTYPE=text/html:<div>&quot\;Photo Editing Made Simple&quot\;</div><div>Homestead Computer Workshop</div><div>&nbsp\;</div><div>Monday\, March 1\, 2010</div><div>7:30 p\,m.</div><div>Southeast Community College--Beatrice Campus</div><div>Ford Hall's Computer Lab (Use south entrance between the greenhouses)</div><div>&nbsp\;</div><div>Jennifer Konecky\, Lincoln Camera Club\, will demonstrate basics of photo editing.</div><div>&nbsp\;</div><div>SCC&nbsp\;Adult Education workshop fee $3.&nbsp\; Anyone is welcome to attend.&nbsp\; For more information\, call 228-3157.</div>
LOCATION:
UID:e.41.1664
SEQUENCE:3
DTSTAMP:20260425T152821Z
URL:https://business.beatricechamber.com/events/details/photo-editing-workshop-03-01-2010-1664
END:VEVENT

END:VCALENDAR
