BEGIN:VCALENDAR
VERSION:2.0
PRODID:-//ChamberMaster//Event Calendar 2.0//EN
METHOD:PUBLISH
X-PUBLISHED-TTL:P3D
REFRESH-INTERVAL:P3D
CALSCALE:GREGORIAN
BEGIN:VEVENT
DTSTART:20110312T220000Z
DTEND:20110313T000000Z
X-MICROSOFT-CDO-ALLDAYEVENT:FALSE
SUMMARY:Photo Exhibit
DESCRIPTION:"Simply Beatrice and More" Photo Exhibit:\n\n\n\nLocation: Beatrice Public Library. Photos by Bernadette Korslund. Pottery by Patrick McKinney. Exhibit runs through March 20.
X-ALT-DESC;FMTTYPE=text/html:<strong><u>&quot\;Simply Beatrice and More&quot\; Photo Exhibit:</u></strong><br />\n<br />\n<strong>Location:</strong> Beatrice Public Library. Photos by <em>Bernadette Korslund</em>. Pottery by Patrick McKinney. Exhibit runs through March 20.
LOCATION:
UID:e.41.4239
SEQUENCE:3
DTSTAMP:20260424T211653Z
URL:https://business.beatricechamber.com/events/details/photo-exhibit-03-12-2011-4239
END:VEVENT

END:VCALENDAR
