BEGIN:VCALENDAR
VERSION:2.0
PRODID:-//ChamberMaster//Event Calendar 2.0//EN
METHOD:PUBLISH
X-PUBLISHED-TTL:P3D
REFRESH-INTERVAL:P3D
CALSCALE:GREGORIAN
BEGIN:VEVENT
DTSTART:20091212T160000Z
DTEND:20091212T210000Z
X-MICROSOFT-CDO-ALLDAYEVENT:FALSE
SUMMARY:Photos with Santa & Santa's Workshop
DESCRIPTION:Photos with Santa at Apple Studios from 10:00 - Noon "The Polar Express" at Cinema Centre $1.00 at 1:00 pm Santa is downtown! Santa's Workshop Open from 1:00 - 3:00 pmSanta's Workshop is at 505 Court St. All workshops feature Santa or his helpers plus complimentary games\, prizes\, drawings\, treats\, beverages\, and fun!
X-ALT-DESC;FMTTYPE=text/html:<div><div>Photos with Santa at Apple Studios from 10:00 - Noon</div><div>&nbsp\;</div><div>&quot\;The Polar Express&quot\; at Cinema Centre $1.00 at 1:00 pm</div><div>&nbsp\;</div><div><div><div>Santa is downtown!&nbsp\;</div><div>Santa&rsquo\;s Workshop Open from 1:00 - 3:00 pm</div><div>Santa&rsquo\;s Workshop is at 505 Court St.</div><div>&nbsp\;</div><div>All workshops feature Santa or his helpers plus complimentary games\, prizes\, drawings\, treats\, beverages\, and fun!</div></div></div></div>
LOCATION:
UID:e.41.1534
SEQUENCE:3
DTSTAMP:20260425T194216Z
URL:https://business.beatricechamber.com/events/details/photos-with-santa-santa-s-workshop-12-12-2009-1534
END:VEVENT

END:VCALENDAR
