BEGIN:VCALENDAR
VERSION:2.0
PRODID:-//ChamberMaster//Event Calendar 2.0//EN
METHOD:PUBLISH
X-PUBLISHED-TTL:P3D
REFRESH-INTERVAL:P3D
CALSCALE:GREGORIAN
BEGIN:VEVENT
DTSTART;VALUE=DATE:20110611
DTEND;VALUE=DATE:20110612
TRANSP:TRANSPARENT
X-MICROSOFT-CDO-ALLDAYEVENT:TRUE
SUMMARY:Pickrell Community Day
DESCRIPTION:Pickrell Community Day\n\n\n\nSaturday\, June 11\n\nPickrell\, NE\n\n\n\nClick here http://www.pickrellne.org/celebration.asp for schedule.
X-ALT-DESC;FMTTYPE=text/html:Pickrell Community Day<br />\n<br />\nSaturday\, June 11<br />\nPickrell\, NE<br />\n<br />\nClick here <a href="http://www.pickrellne.org/celebration.asp">http://www.pickrellne.org/celebration.asp</a>&nbsp\;for schedule.
LOCATION:
UID:e.41.4850
SEQUENCE:3
DTSTAMP:20260424T165412Z
URL:https://business.beatricechamber.com/events/details/pickrell-community-day-06-11-2011-4850
END:VEVENT

END:VCALENDAR
