BEGIN:VCALENDAR
VERSION:2.0
PRODID:-//ChamberMaster//Event Calendar 2.0//EN
METHOD:PUBLISH
X-PUBLISHED-TTL:P3D
REFRESH-INTERVAL:P3D
CALSCALE:GREGORIAN
BEGIN:VEVENT
DTSTART;VALUE=DATE:20120811
DTEND;VALUE=DATE:20120812
TRANSP:TRANSPARENT
X-MICROSOFT-CDO-ALLDAYEVENT:TRUE
SUMMARY:Pickrell Community Day
DESCRIPTION:Pickrell Community Day\n\n\n\nWet Sand Volleyball starting at 12:30 pm Sign up at 11:30 am\n\nFor more information contact Matt Fossler at 402-239-8302.\n\n \n\nTractor Pull featuring Showboat starting at 6:00 pm Sign up at the Triple Crown 1:00-5:00 pm\n\n\n\nFor more information contact Ryan Harms 402-230-0515 or\n\nTony Busboom 402-230-0892.
X-ALT-DESC;FMTTYPE=text/html:Pickrell Community Day<br />\n<br />\n<u><strong>Wet Sand Volleyball </strong></u>starting at 12:30 pm Sign up at 11:30 am<br />\nFor more information contact Matt Fossler at 402-239-8302.<br />\n&nbsp\;<br />\n<u><strong>Tractor Pull</strong></u> featuring Showboat starting at 6:00 pm Sign up at the Triple Crown 1:00-5:00 pm<br />\n<br />\nFor more information contact Ryan Harms 402-230-0515 or<br />\nTony Busboom 402-230-0892.
LOCATION:
UID:e.41.6593
SEQUENCE:3
DTSTAMP:20260422T100330Z
URL:https://business.beatricechamber.com/events/details/pickrell-community-day-08-11-2012-6593
END:VEVENT

END:VCALENDAR
