BEGIN:VCALENDAR
VERSION:2.0
PRODID:-//ChamberMaster//Event Calendar 2.0//EN
METHOD:PUBLISH
X-PUBLISHED-TTL:P3D
REFRESH-INTERVAL:P3D
CALSCALE:GREGORIAN
BEGIN:VEVENT
DTSTART;VALUE=DATE:20100612
DTEND;VALUE=DATE:20100613
TRANSP:TRANSPARENT
X-MICROSOFT-CDO-ALLDAYEVENT:TRUE
SUMMARY:Pickrell Community Day 6/12/2010
DESCRIPTION:Pickrell Community Day Pickrell Community Day will be held on Saturday\, June 12\, 2010.  List of events:Show & Shine Car ShowLittle Tuggers Tractor PullBounce Houses and Kid GamesStar Care VStreet Dance-music by One More TimeFood available For more information please see the website at www.pickrellne.org  All events will be held from noon on and will be held at the park and on the main street of Pickrell.
X-ALT-DESC;FMTTYPE=text/html:<div><div><font style="font-size: 10pt"><strong><font style="font-size: 18pt">Pickrell Community Day</font></strong> <div><font style="font-size: 12pt">Pickrell Community Day will be held on Saturday\, </font><strong><font style="font-size: 12pt">June 12</font></strong><font style="font-size: 12pt">\, 2010. </font></div><div>&nbsp\;</div><div><font style="font-size: 12pt">List of events:</font></div><div><font style="font-size: 12pt">Show &amp\; Shine Car Show</font></div><div><font style="font-size: 12pt">Little Tuggers Tractor Pull</font></div><div><font style="font-size: 12pt">Bounce Houses and Kid Games</font></div><div><font style="font-size: 12pt">Star Care V</font></div><div><font style="font-size: 12pt">Street Dance-music by One More Time</font></div><div><font style="font-size: 12pt">Food available</font></div><div><font style="font-size: 12pt">&nbsp\;</font></div><div><font style="font-size: 12pt">For more information please see the website at </font><font style="font-size: 12pt"><a title="http://r20.rs6.net/tn.jsp?et=1103361877457&amp\;s=645&amp\;e=00154FnTiQDla5XZ7rYTeZY9ZksFocc3yfdd46ZXGnsWl6zYCcy1NxiEmueY60xt0k8s1gXWiR5j-O7-ZBdMHra6rkbOSG0vl6abGtyo22p-yMzmhq7wPpqkw==" href="http://r20.rs6.net/tn.jsp?et=1103361877457&amp\;s=645&amp\;e=00154FnTiQDla5XZ7rYTeZY9ZksFocc3yfdd46ZXGnsWl6zYCcy1NxiEmueY60xt0k8s1gXWiR5j-O7-ZBdMHra6rkbOSG0vl6abGtyo22p-yMzmhq7wPpqkw==" shape="rect" target="_blank">www.pickrellne.org</a> </font><font style="font-size: 12pt">&nbsp\;</font></div><div><font style="font-size: 12pt">All events will be held from noon on and will be held at the park and on the main street of Pickrell.</font></div></font></div></div>
LOCATION:
UID:e.41.1992
SEQUENCE:3
DTSTAMP:20260425T105412Z
URL:https://business.beatricechamber.com/events/details/pickrell-community-day-6-12-2010-06-12-2010-1992
END:VEVENT

END:VCALENDAR
