BEGIN:VCALENDAR
VERSION:2.0
PRODID:-//ChamberMaster//Event Calendar 2.0//EN
METHOD:PUBLISH
X-PUBLISHED-TTL:P3D
REFRESH-INTERVAL:P3D
CALSCALE:GREGORIAN
BEGIN:VEVENT
DTSTART;VALUE=DATE:20110327
DTEND;VALUE=DATE:20110328
TRANSP:TRANSPARENT
X-MICROSOFT-CDO-ALLDAYEVENT:TRUE
SUMMARY:Pickrell Community Potluck
DESCRIPTION:Pickrell Community to host Potluck Dinner\n\n\n\nSunday\, March 27\n\n5 pm\n\n\n\nPickrell United Methodist Church Fellowship Hall\n\n\n\nParticipants are asked to bring a dish to share if they wish.  The event is free of charge and everyone is welcome.
X-ALT-DESC;FMTTYPE=text/html:Pickrell Community to host Potluck Dinner<br />\n<br />\nSunday\, March 27<br />\n5 pm<br />\n<br />\nPickrell United Methodist Church Fellowship Hall<br />\n<br />\nParticipants are asked to bring a dish to share if they wish.&nbsp\; The event is free of charge and everyone is welcome.
LOCATION:
UID:e.41.4260
SEQUENCE:3
DTSTAMP:20260424T211744Z
URL:https://business.beatricechamber.com/events/details/pickrell-community-potluck-03-27-2011-4260
END:VEVENT

END:VCALENDAR
