BEGIN:VCALENDAR
VERSION:2.0
PRODID:-//ChamberMaster//Event Calendar 2.0//EN
METHOD:PUBLISH
X-PUBLISHED-TTL:P3D
REFRESH-INTERVAL:P3D
CALSCALE:GREGORIAN
BEGIN:VEVENT
DTSTART;VALUE=DATE:20101226
DTEND;VALUE=DATE:20101227
TRANSP:TRANSPARENT
X-MICROSOFT-CDO-ALLDAYEVENT:TRUE
SUMMARY:Pickrell Community Potluck
DESCRIPTION:Pickrell Community Potluck\n\nSunday\, December 26\n\n5 p.m.\n\n\n\nat Pickrell United Methodist Church Fellowship Hall\n\n\n\nEveryone is welcome.
X-ALT-DESC;FMTTYPE=text/html:Pickrell Community Potluck<br />\nSunday\, December 26<br />\n5 p.m.<br />\n<br />\nat Pickrell United Methodist Church Fellowship Hall<br />\n<br />\nEveryone is welcome.
LOCATION:
UID:e.41.2923
SEQUENCE:3
DTSTAMP:20260425T014134Z
URL:https://business.beatricechamber.com/events/details/pickrell-community-potluck-12-26-2010-2923
END:VEVENT

END:VCALENDAR
