BEGIN:VCALENDAR
VERSION:2.0
PRODID:-//ChamberMaster//Event Calendar 2.0//EN
METHOD:PUBLISH
X-PUBLISHED-TTL:P3D
REFRESH-INTERVAL:P3D
CALSCALE:GREGORIAN
BEGIN:VEVENT
DTSTART;VALUE=DATE:20110731
DTEND;VALUE=DATE:20110801
TRANSP:TRANSPARENT
X-MICROSOFT-CDO-ALLDAYEVENT:TRUE
SUMMARY:Pickrell Community Potluck Dinner
DESCRIPTION:A Pickrell Community potluck dinner is planned for Sunday\, July 31 at 6 p.m. in the Pickrell United Methodist Church Fellowship Hall.  Bring a dish to share if you like.  The event is free and all are welcome!
X-ALT-DESC;FMTTYPE=text/html:A Pickrell Community potluck dinner is planned for Sunday\, July 31 at 6 p.m. in the Pickrell United Methodist Church Fellowship Hall.&nbsp\; Bring a dish to share if you like.&nbsp\; The event is free and all are welcome!
LOCATION:
UID:e.41.4981
SEQUENCE:3
DTSTAMP:20260424T153736Z
URL:https://business.beatricechamber.com/events/details/pickrell-community-potluck-dinner-07-31-2011-4981
END:VEVENT

END:VCALENDAR
