BEGIN:VCALENDAR
VERSION:2.0
PRODID:-//ChamberMaster//Event Calendar 2.0//EN
METHOD:PUBLISH
X-PUBLISHED-TTL:P3D
REFRESH-INTERVAL:P3D
CALSCALE:GREGORIAN
BEGIN:VEVENT
DTSTART;VALUE=DATE:20110611
DTEND;VALUE=DATE:20110612
TRANSP:TRANSPARENT
X-MICROSOFT-CDO-ALLDAYEVENT:TRUE
SUMMARY:Pickrell Picnic
DESCRIPTION:Proceeds will go to the Main Street Lighting and Christmas Decor Projects.  For more information please see the website at www.pickrellne.org
X-ALT-DESC;FMTTYPE=text/html:Proceeds will go to the Main Street Lighting and Christmas Decor Projects.&nbsp\; For more information please see the website at <a href="http://www.pickrellne.org">www.pickrellne.org</a>
LOCATION:
UID:e.41.4858
SEQUENCE:3
DTSTAMP:20260424T165343Z
URL:https://business.beatricechamber.com/events/details/pickrell-picnic-06-11-2011-4858
END:VEVENT

END:VCALENDAR
