BEGIN:VCALENDAR
VERSION:2.0
PRODID:-//ChamberMaster//Event Calendar 2.0//EN
METHOD:PUBLISH
X-PUBLISHED-TTL:P3D
REFRESH-INTERVAL:P3D
CALSCALE:GREGORIAN
BEGIN:VEVENT
DTSTART;VALUE=DATE:20110626
DTEND;VALUE=DATE:20110627
TRANSP:TRANSPARENT
X-MICROSOFT-CDO-ALLDAYEVENT:TRUE
SUMMARY:Pickrell Potluck
DESCRIPTION:The next Pickrell Community Potluck Dinner is planned for Sunday\, June 26th at 6 p.m.  Participants are being asked to bring a dish to share.  All are welcome to come.
X-ALT-DESC;FMTTYPE=text/html:The next Pickrell Community Potluck Dinner is planned for Sunday\, June 26th at 6 p.m.&nbsp\; Participants are being asked to bring a dish to share.&nbsp\; All are welcome to come.
LOCATION:
UID:e.41.4913
SEQUENCE:3
DTSTAMP:20260424T165411Z
URL:https://business.beatricechamber.com/events/details/pickrell-potluck-06-26-2011-4913
END:VEVENT

END:VCALENDAR
