BEGIN:VCALENDAR
VERSION:2.0
PRODID:-//ChamberMaster//Event Calendar 2.0//EN
METHOD:PUBLISH
X-PUBLISHED-TTL:P3D
REFRESH-INTERVAL:P3D
CALSCALE:GREGORIAN
BEGIN:VEVENT
DTSTART;VALUE=DATE:20111006
DTEND;VALUE=DATE:20111007
TRANSP:TRANSPARENT
X-MICROSOFT-CDO-ALLDAYEVENT:TRUE
SUMMARY:"Pink Out" event with Lady O Volleyball
DESCRIPTION:Beatrice Lady O Volleyball Team "Pink Out" event:\n\n\n\nThursday\, October 6\n\n\n\nAs part of their match against Gross High School\; to increase breast cancer awareness and to rais efunds for cancer research.  Fans encouraged to wear pink and participate in raffles and a cancer research freewill donation. \n\n\n\nSponsored by Beatrice Booster Club with donations from local businesses.
X-ALT-DESC;FMTTYPE=text/html:Beatrice Lady O Volleyball Team &quot\;Pink Out&quot\; event:<br />\n<br />\nThursday\, October 6<br />\n<br />\nAs part of their match against Gross High School\; to increase breast cancer awareness and to rais efunds for cancer research.&nbsp\; Fans encouraged to wear pink and participate in raffles and a cancer research freewill donation.&nbsp\;<br />\n<br />\nSponsored by Beatrice Booster Club with donations from local businesses.
LOCATION:
UID:e.41.5166
SEQUENCE:3
DTSTAMP:20260424T111729Z
URL:https://business.beatricechamber.com/events/details/pink-out-event-with-lady-o-volleyball-10-06-2011-5166
END:VEVENT

END:VCALENDAR
