BEGIN:VCALENDAR
VERSION:2.0
PRODID:-//ChamberMaster//Event Calendar 2.0//EN
METHOD:PUBLISH
X-PUBLISHED-TTL:P3D
REFRESH-INTERVAL:P3D
CALSCALE:GREGORIAN
BEGIN:VEVENT
DTSTART;VALUE=DATE:20101216
DTEND;VALUE=DATE:20101217
TRANSP:TRANSPARENT
X-MICROSOFT-CDO-ALLDAYEVENT:TRUE
SUMMARY:Pinnacle Bank Holiday Open House
DESCRIPTION:Pinnacle Bank Holiday Open House:\n\n\n\nPlease join us for our Holiday Open House\n\nThursday\, December 16th\n\n\n\nMain Branch: 9:00 a.m.-4:00 p.m.\n\nMotor Branch: 8:30 a.m.- 5:00 p.m.\n\n\n\nCookies\, coffee and hot cider will be served. We look forward to sharing the holidays with our customers\, family and friends.\n\n\n\nBeatrice- 523 Court Street\, 402-228-3333\n\n523 North 6th Street\, 402-228-3461
X-ALT-DESC;FMTTYPE=text/html:<strong><span style="font-size: 16px\;">Pinnacle Bank Holiday Open House:</span></strong><br />\n<br />\nPlease join us for our Holiday Open House<br />\nThursday\, December 16th<br />\n<br />\nMain Branch: 9:00 a.m.-4:00 p.m.<br />\nMotor Branch: 8:30 a.m.- 5:00 p.m.<br />\n<br />\nCookies\, coffee and hot cider will be served. We look forward to sharing the holidays with our customers\, family and friends.<br />\n<br />\nBeatrice- 523 Court Street\, 402-228-3333<br />\n523 North 6th Street\, 402-228-3461<br />\n
LOCATION:
UID:e.41.2921
SEQUENCE:3
DTSTAMP:20260425T020504Z
URL:https://business.beatricechamber.com/events/details/pinnacle-bank-holiday-open-house-12-16-2010-2921
END:VEVENT

END:VCALENDAR
