BEGIN:VCALENDAR
VERSION:2.0
PRODID:-//ChamberMaster//Event Calendar 2.0//EN
METHOD:PUBLISH
X-PUBLISHED-TTL:P3D
REFRESH-INTERVAL:P3D
CALSCALE:GREGORIAN
BEGIN:VEVENT
DTSTART:20091217T150000Z
DTEND:20091217T220000Z
X-MICROSOFT-CDO-ALLDAYEVENT:FALSE
SUMMARY:Pinnacle Bank Open House
DESCRIPTION:Celebrate the Season at Pinnacle Bank'sOpen HouseThursday\, December 17\, 2009 Cookies\, cider and coffee will be servedMain Bank 9:00 am - 4:00 pmMotor Bank 8:30 am - 5:00 pm
X-ALT-DESC;FMTTYPE=text/html:<div>Celebrate the Season at Pinnacle Bank's</div><div>Open House</div><div>Thursday\, December 17\, 2009</div><div>&nbsp\;</div><div>Cookies\, cider and coffee will be served</div><div>Main Bank 9:00 am - 4:00 pm</div><div>Motor Bank 8:30 am - 5:00 pm</div>
LOCATION:
UID:e.41.1566
SEQUENCE:3
DTSTAMP:20260425T194124Z
URL:https://business.beatricechamber.com/events/details/pinnacle-bank-open-house-12-17-2009-1566
END:VEVENT

END:VCALENDAR
