BEGIN:VCALENDAR
VERSION:2.0
PRODID:-//ChamberMaster//Event Calendar 2.0//EN
METHOD:PUBLISH
X-PUBLISHED-TTL:P3D
REFRESH-INTERVAL:P3D
CALSCALE:GREGORIAN
BEGIN:VEVENT
DTSTART;VALUE=DATE:20091001
DTEND;VALUE=DATE:20091003
TRANSP:TRANSPARENT
X-MICROSOFT-CDO-ALLDAYEVENT:TRUE
SUMMARY:Pioneer Days
DESCRIPTION:Filley Stone BarnHomestead National Monument of AmericaGage County Historical Museum Filley\, NE
X-ALT-DESC;FMTTYPE=text/html:<div>Filley Stone Barn</div><div>Homestead National Monument of America</div><div>Gage County Historical Museum</div><div>&nbsp\;</div><div>Filley\, NE</div>
LOCATION:
UID:e.41.1062
SEQUENCE:3
DTSTAMP:20260425T221329Z
URL:https://business.beatricechamber.com/events/details/pioneer-days-10-01-2009-1062
END:VEVENT

END:VCALENDAR
