BEGIN:VCALENDAR
VERSION:2.0
PRODID:-//ChamberMaster//Event Calendar 2.0//EN
METHOD:PUBLISH
X-PUBLISHED-TTL:P3D
REFRESH-INTERVAL:P3D
CALSCALE:GREGORIAN
BEGIN:VEVENT
DTSTART;VALUE=DATE:20111005
DTEND;VALUE=DATE:20111008
TRANSP:TRANSPARENT
X-MICROSOFT-CDO-ALLDAYEVENT:TRUE
SUMMARY:Pioneer Days
DESCRIPTION:Pioneer Days\n\nOctober 5 - 7\, 2011\n\n\n\nFilley Stone Barn/Homestead National Monument\n\n\n\nFilley\, NE/Beatrice\, NE\n\n\n\nMuseum: 402-228-1679 or Homestead: 402-223-3415\n\n\n\nwww.nps.gov/home
X-ALT-DESC;FMTTYPE=text/html:Pioneer Days<br />\nOctober 5 - 7\, 2011<br />\n<br />\nFilley Stone Barn/Homestead National Monument<br />\n<br />\nFilley\, NE/Beatrice\, NE<br />\n<br />\nMuseum: 402-228-1679 or Homestead: 402-223-3415<br />\n<br />\nwww.nps.gov/home<br />\n
LOCATION:
UID:e.41.4855
SEQUENCE:3
DTSTAMP:20260424T111137Z
URL:https://business.beatricechamber.com/events/details/pioneer-days-10-05-2011-4855
END:VEVENT

END:VCALENDAR
