BEGIN:VCALENDAR
VERSION:2.0
PRODID:-//ChamberMaster//Event Calendar 2.0//EN
METHOD:PUBLISH
X-PUBLISHED-TTL:P3D
REFRESH-INTERVAL:P3D
CALSCALE:GREGORIAN
BEGIN:VEVENT
DTSTART:20110617T150000Z
DTEND:20110619T220000Z
X-MICROSOFT-CDO-ALLDAYEVENT:FALSE
SUMMARY:Pioneer Demonstrations
DESCRIPTION:The Homestead National Monument of America will host traditional craft demonstrations daily from 10 a.m. to 5 p.m. during Homestead Days on June 17-19\, 2011.\n\n\n\nDemonstrations include making feather brushes for cooking\, mechanized spinning and making felt material with wool and rocks.\n\n\n\nFor additional information\, please call 402-223-3514 or visit www.nps.gov/home
X-ALT-DESC;FMTTYPE=text/html:The Homestead National Monument of America will host traditional craft demonstrations daily from 10 a.m. to 5 p.m. during Homestead Days on June 17-19\, 2011.<br />\n<br />\nDemonstrations include making feather brushes for cooking\, mechanized spinning and making felt material with wool and rocks.<br />\n<br />\nFor additional information\, please call 402-223-3514 or visit <a href="http://www.nps.gov/home">www.nps.gov/home</a>
LOCATION:
UID:e.41.4839
SEQUENCE:3
DTSTAMP:20260424T165632Z
URL:https://business.beatricechamber.com/events/details/pioneer-demonstrations-06-17-2011-4839
END:VEVENT

END:VCALENDAR
