BEGIN:VCALENDAR
VERSION:2.0
PRODID:-//ChamberMaster//Event Calendar 2.0//EN
METHOD:PUBLISH
X-PUBLISHED-TTL:P3D
REFRESH-INTERVAL:P3D
CALSCALE:GREGORIAN
BEGIN:VEVENT
DTSTART;VALUE=DATE:20111111
DTEND;VALUE=DATE:20111114
TRANSP:TRANSPARENT
X-MICROSOFT-CDO-ALLDAYEVENT:TRUE
SUMMARY:Plaza Gift Gallery Holiday Open House
DESCRIPTION:Holiday Open House at Plaza Gift Gallery\n\n1818 E Court Street\, Beatrice\n\n\n\nFriday\, Saturday\, Sunday\, November 11\, 12 & 13\n\n\n\n20% off gifts storewide (some exclusions)
X-ALT-DESC;FMTTYPE=text/html:Holiday Open House at Plaza Gift Gallery<br />\n1818 E Court Street\, Beatrice<br />\n<br />\nFriday\, Saturday\, Sunday\, November 11\, 12 &amp\; 13<br />\n<br />\n20% off gifts storewide (some exclusions)<br />\n<br />\n
LOCATION:
UID:e.41.5232
SEQUENCE:3
DTSTAMP:20260424T100023Z
URL:https://business.beatricechamber.com/events/details/plaza-gift-gallery-holiday-open-house-11-11-2011-5232
END:VEVENT

END:VCALENDAR
