BEGIN:VCALENDAR
VERSION:2.0
PRODID:-//ChamberMaster//Event Calendar 2.0//EN
METHOD:PUBLISH
X-PUBLISHED-TTL:P3D
REFRESH-INTERVAL:P3D
CALSCALE:GREGORIAN
BEGIN:VEVENT
DTSTART:20091114T030000Z
DTEND:20091115T230000Z
X-MICROSOFT-CDO-ALLDAYEVENT:FALSE
SUMMARY:Plaza Gift Gallery Holiday Open House
DESCRIPTION:Holiday Open HousePlaza Gift Gallery1818 E Court St November 13 - 15Friday - Saturday - Sunday 20% OFF most gift items storewide Free Calendar bookSample dips and ciderDrawing for Yanke Candles /diffusers
X-ALT-DESC;FMTTYPE=text/html:<div>Holiday Open House</div><div>Plaza Gift Gallery</div><div>1818 E Court St</div><div>&nbsp\;</div><div>November 13 - 15</div><div>Friday - Saturday - Sunday</div><div>&nbsp\;</div><div>20% OFF most gift items storewide</div><div>&nbsp\;</div><div>Free Calendar book</div><div>Sample dips and cider</div><div>Drawing for Yanke Candles /diffusers</div><div>&nbsp\;</div>
LOCATION:
UID:e.41.1523
SEQUENCE:3
DTSTAMP:20260425T205512Z
URL:https://business.beatricechamber.com/events/details/plaza-gift-gallery-holiday-open-house-11-13-2009-1523
END:VEVENT

END:VCALENDAR
