BEGIN:VCALENDAR
VERSION:2.0
PRODID:-//ChamberMaster//Event Calendar 2.0//EN
METHOD:PUBLISH
X-PUBLISHED-TTL:P3D
REFRESH-INTERVAL:P3D
CALSCALE:GREGORIAN
BEGIN:VEVENT
DTSTART;VALUE=DATE:20090627
DTEND;VALUE=DATE:20090628
TRANSP:TRANSPARENT
X-MICROSOFT-CDO-ALLDAYEVENT:TRUE
SUMMARY:Plymouth Chicken BBQ & Street Dance
DESCRIPTION:20th Annual Plymouth Fireman's Celebration BBQ  5-8 pmSue & The Blue River Czechs  5-8 pmLittle Tuggers Tractor PUll  7 pmStreet Dance  9 pm - 1 am  featuring Mother Tung 2 day Fast Pitch Softball TournamentProceeds go to the Volunteer Fire Department
X-ALT-DESC;FMTTYPE=text/html:<div>20th Annual Plymouth Fireman's Celebration</div><div>&nbsp\;</div><div>BBQ&nbsp\; 5-8 pm</div><div>Sue &amp\; The Blue River Czechs&nbsp\; 5-8 pm</div><div>Little Tuggers Tractor PUll&nbsp\; 7 pm</div><div>Street Dance&nbsp\; 9 pm - 1 am&nbsp\; featuring Mother Tung</div><div>&nbsp\;</div><div>2 day Fast Pitch Softball Tournament</div><div>Proceeds go to the Volunteer Fire Department</div>
LOCATION:
UID:e.41.1255
SEQUENCE:3
DTSTAMP:20260426T043014Z
URL:https://business.beatricechamber.com/events/details/plymouth-chicken-bbq-street-dance-06-27-2009-1255
END:VEVENT

END:VCALENDAR
