BEGIN:VCALENDAR
VERSION:2.0
PRODID:-//ChamberMaster//Event Calendar 2.0//EN
METHOD:PUBLISH
X-PUBLISHED-TTL:P3D
REFRESH-INTERVAL:P3D
CALSCALE:GREGORIAN
BEGIN:VEVENT
DTSTART;VALUE=DATE:20110820
DTEND;VALUE=DATE:20110821
TRANSP:TRANSPARENT
X-MICROSOFT-CDO-ALLDAYEVENT:TRUE
SUMMARY:Plymouth Chicken BBQ & Street Dance
DESCRIPTION:Main Street Plymouth --  5:30 p.m.-8:30 p.m. Chicken dinner.  Entertainment by Sue & the Blue River Czechs.  Street Dance 9 p.m.-1 a.m. to One Night Stand and Group Therapy.
X-ALT-DESC;FMTTYPE=text/html:Main Street Plymouth --&nbsp\; 5:30 p.m.-8:30 p.m. Chicken dinner.&nbsp\; Entertainment by Sue &amp\; the Blue River Czechs.&nbsp\; Street Dance 9 p.m.-1 a.m. to One Night Stand and Group Therapy.
LOCATION:
UID:e.41.5010
SEQUENCE:3
DTSTAMP:20260424T140800Z
URL:https://business.beatricechamber.com/events/details/plymouth-chicken-bbq-street-dance-08-20-2011-5010
END:VEVENT

END:VCALENDAR
