BEGIN:VCALENDAR
VERSION:2.0
PRODID:-//ChamberMaster//Event Calendar 2.0//EN
METHOD:PUBLISH
X-PUBLISHED-TTL:P3D
REFRESH-INTERVAL:P3D
CALSCALE:GREGORIAN
BEGIN:VEVENT
DTSTART;VALUE=DATE:20110709
DTEND;VALUE=DATE:20110710
TRANSP:TRANSPARENT
X-MICROSOFT-CDO-ALLDAYEVENT:TRUE
SUMMARY:Plymouth Flower Show
DESCRIPTION:10 a.m.-3 p.m. Plymouth Community Building.  Bring garden exhibits between 7:30 a.m.-9:30 a.m. so they can be judged.  $25 prize for best "Garden Photo\," "Unique Planter\," and "Ditchweed Bouquet."  Many other prizes will be awarded.  Youth divisions for 12 and under. \n\n\n\nThe Garden Cafe will be serving lunch from 11 a.m.-1 p.m.  Garden forum from 11 a.m.-noon.  Gage County Horticultural Educator Nicole Haxton available for garden questions.  Free admission.\n\n\n\nFor more information call 402-656-4791
X-ALT-DESC;FMTTYPE=text/html:10 a.m.-3 p.m. Plymouth Community Building.&nbsp\; Bring garden exhibits between 7:30 a.m.-9:30 a.m. so they can be judged.&nbsp\; $25 prize for best &quot\;Garden Photo\,&quot\; &quot\;Unique Planter\,&quot\; and &quot\;Ditchweed Bouquet.&quot\;&nbsp\; Many other prizes will be awarded.&nbsp\; Youth divisions for 12 and under.&nbsp\;<br />\n<br />\nThe Garden Cafe will be serving lunch from 11 a.m.-1 p.m.&nbsp\; Garden forum from 11 a.m.-noon.&nbsp\; Gage County Horticultural Educator Nicole Haxton available for garden questions.&nbsp\; Free admission.<br />\n<br />\nFor more information call 402-656-4791
LOCATION:
UID:e.41.4935
SEQUENCE:3
DTSTAMP:20260424T153519Z
URL:https://business.beatricechamber.com/events/details/plymouth-flower-show-07-09-2011-4935
END:VEVENT

END:VCALENDAR
