BEGIN:VCALENDAR
VERSION:2.0
PRODID:-//ChamberMaster//Event Calendar 2.0//EN
METHOD:PUBLISH
X-PUBLISHED-TTL:P3D
REFRESH-INTERVAL:P3D
CALSCALE:GREGORIAN
BEGIN:VEVENT
DTSTART:20100626T220000Z
DTEND:20100627T010000Z
X-MICROSOFT-CDO-ALLDAYEVENT:FALSE
SUMMARY:Plymouth Volunteer Fire Department Chicken BBQ and Street Dance
DESCRIPTION:June 26\, 2010 From 5 p.m. to 8 p.m.Chicken BBQ with Sue and The Blue River Czechs providing music. 9 p.m. - 1 a.m. Street Dance featuring Whizker Bizkit. Proceeds go to the Plymouth Volunteer Fire Department.
X-ALT-DESC;FMTTYPE=text/html:<div>June 26\, 2010</div><div>&nbsp\;From 5 p.m. to 8 p.m.</div><div>Chicken BBQ with Sue and The Blue River Czechs providing music. 9 p.m. - 1 a.m. Street Dance featuring Whizker Bizkit. Proceeds go to the Plymouth Volunteer Fire Department.</div>
LOCATION:Plymouth\, NE
UID:e.41.2035
SEQUENCE:3
DTSTAMP:20260425T105917Z
URL:https://business.beatricechamber.com/events/details/plymouth-volunteer-fire-department-chicken-bbq-and-street-dance-06-26-2010-2035
END:VEVENT

END:VCALENDAR
