BEGIN:VCALENDAR
VERSION:2.0
PRODID:-//ChamberMaster//Event Calendar 2.0//EN
METHOD:PUBLISH
X-PUBLISHED-TTL:P3D
REFRESH-INTERVAL:P3D
CALSCALE:GREGORIAN
BEGIN:VEVENT
DTSTART:20090718T160000Z
DTEND:20090719T040000Z
X-MICROSOFT-CDO-ALLDAYEVENT:FALSE
SUMMARY:Poker Run - Ride For Life 2009
DESCRIPTION:Rev up your engines\, put on your leathers!  It's time for the 2009 Ride for Life Poker Run!!! Join the fun to benefit the American Cancer Society via the Gage County Relay for Life.Celebrate Lives\, Remember loved ones and Fight back against cancer! Registration at The Rail  11:00 am - NoonOne Poker Hand - $15Two Hands - $25 Includes: Supper\, Entertainment\, Drawing Ticket Best & Worst Hands win a Grand PrizePersonalities awardedSplit the PotLive Band Lots of prize drawings to win all throughout the day!  For more information call 402-228-9857
X-ALT-DESC;FMTTYPE=text/html:<div><font face="Comic Sans MS" color="#800080"><strong>Rev up your engines\, put on your leathers!&nbsp\; </strong></font></div><div><font face="Comic Sans MS" color="#800080"><strong>It&rsquo\;s time for the 2009 Ride for Life Poker Run!!!&nbsp\;</strong></font></div><div><font face="Comic Sans MS" color="#800080"><strong>Join the fun to benefit the American Cancer Society via the Gage County Relay for Life.</strong></font></div><div><font face="Comic Sans MS" color="#800080"><strong>Celebrate Lives\, Remember loved ones and Fight back against cancer!</strong></font></div><div><font face="Comic Sans MS">&nbsp\;</font></div><div><font color="#800080">Registration at The Rail&nbsp\; 11:00 am - Noon</font></div><div><font color="#800080">One Poker Hand - $15</font></div><div><font color="#800080">Two Hands - $25</font></div><div><font color="#800080">&nbsp\;</font></div><div><font color="#800080">Includes: Supper\, Entertainment\, Drawing Ticket</font></div><div><font color="#800080">&nbsp\;</font></div><div><font color="#800080">Best &amp\; Worst Hands win a Grand Prize</font></div><div><font color="#800080">Personalities awarded</font></div><div><font color="#800080">Split the Pot</font></div><div><font color="#800080">Live Band</font></div><div><font color="#800080">&nbsp\;</font></div><div><font color="#800080">Lots of prize drawings to win all throughout the day!&nbsp\;</font></div><div><font color="#800080">&nbsp\;</font></div><div><font color="#800080">For more information call 402-228-9857</font></div>
LOCATION:
UID:e.41.1245
SEQUENCE:3
DTSTAMP:20260426T025212Z
URL:https://business.beatricechamber.com/events/details/poker-run-ride-for-life-2009-07-18-2009-1245
END:VEVENT

END:VCALENDAR
