BEGIN:VCALENDAR
VERSION:2.0
PRODID:-//ChamberMaster//Event Calendar 2.0//EN
METHOD:PUBLISH
X-PUBLISHED-TTL:P3D
REFRESH-INTERVAL:P3D
CALSCALE:GREGORIAN
BEGIN:VEVENT
DTSTART:20091201T000000Z
DTEND:20091201T020000Z
X-MICROSOFT-CDO-ALLDAYEVENT:FALSE
SUMMARY:Political Campaign 101
DESCRIPTION:Political Campaign 101Are you considering running for public office or working on a campaign?Join us at the annual Political Campaign 101 offeres potential candidates and othersinterested in the election process an opportunity to learn more about running for office\, while gaining valuable insight from others who have run in the past. Beatrice Public Library - Sargent RoomMonday\, November 30\, 2009  6-8 pmRegistration $17Please RSVP by November 25\, 2009
X-ALT-DESC;FMTTYPE=text/html:<div>Political Campaign 101</div><div>Are you considering running for public office or working on a campaign?</div><div>Join us at the annual Political Campaign 101 offeres potential candidates and others</div><div>interested in the election process an opportunity to learn more about running for office\, while gaining valuable insight from others who have run in the past.</div><div>&nbsp\;</div><div>Beatrice Public Library - Sargent Room</div><div>Monday\, November 30\, 2009&nbsp\; 6-8 pm</div><div>Registration $17</div><div>Please RSVP by November 25\, 2009</div>
LOCATION:
UID:e.41.1484
SEQUENCE:3
DTSTAMP:20260425T204700Z
URL:https://business.beatricechamber.com/events/details/political-campaign-101-11-30-2009-1484
END:VEVENT

END:VCALENDAR
