BEGIN:VCALENDAR
VERSION:2.0
PRODID:-//ChamberMaster//Event Calendar 2.0//EN
METHOD:PUBLISH
X-PUBLISHED-TTL:P3D
REFRESH-INTERVAL:P3D
CALSCALE:GREGORIAN
BEGIN:VEVENT
DTSTART;VALUE=DATE:20110315
DTEND;VALUE=DATE:20110316
TRANSP:TRANSPARENT
X-MICROSOFT-CDO-ALLDAYEVENT:TRUE
SUMMARY:Potluck Supper and Card Party
DESCRIPTION:5:30 p.m. Beatrice Senior Center\, 101 N. 25th.\, Beatrice.\n\n\n\nDrinks and tableware provided. Free popcorn and prizes throughout the evening.
X-ALT-DESC;FMTTYPE=text/html:5:30 p.m. Beatrice Senior Center\, 101 N. 25th.\, Beatrice.<br />\n<br />\nDrinks and tableware provided. Free popcorn and prizes throughout the evening.
LOCATION:
UID:e.41.4231
SEQUENCE:3
DTSTAMP:20260424T212553Z
URL:https://business.beatricechamber.com/events/details/potluck-supper-and-card-party-03-15-2011-4231
END:VEVENT

END:VCALENDAR
