BEGIN:VCALENDAR
VERSION:2.0
PRODID:-//ChamberMaster//Event Calendar 2.0//EN
METHOD:PUBLISH
X-PUBLISHED-TTL:P3D
REFRESH-INTERVAL:P3D
CALSCALE:GREGORIAN
BEGIN:VEVENT
DTSTART;VALUE=DATE:20110924
DTEND;VALUE=DATE:20111002
TRANSP:TRANSPARENT
X-MICROSOFT-CDO-ALLDAYEVENT:TRUE
SUMMARY:Prairie Appreciation Week at Homestead National Monument
DESCRIPTION:Celebrate Prairie Appreciation Week 2011 with a variety of free and fun activities at Homestead National Monument of America\n\n\n\nSeptember 24 - October 1\n\n\n\nSeptember 24\, 9:30 am: Public Lands Day Deer Census\n\nSeptember 25\, 2 pm: Special Prairie Program presented by Kay Kotas titled "Wild Plants of the Prairie: the strange truth about plains plants"\n\nSeptember 28\, 9 am - 2 pm: Prairie Visions Writing Festival\n\nOctober 1\, 9:30 am: Prairie Work Day\n\n\n\nwww.nps.gov/home
X-ALT-DESC;FMTTYPE=text/html:Celebrate Prairie Appreciation Week 2011 with&nbsp\;a variety of free and fun activities at Homestead National Monument of America<br />\n<br />\nSeptember 24 - October 1<br />\n<br />\nSeptember 24\, 9:30 am: Public Lands Day Deer Census<br />\nSeptember 25\, 2 pm: Special Prairie Program presented by Kay Kotas titled &quot\;Wild Plants of the Prairie: the strange truth about plains plants&quot\;<br />\nSeptember 28\, 9 am - 2 pm: Prairie Visions Writing Festival<br />\nOctober 1\, 9:30 am: Prairie Work Day<br />\n<br />\n<a href="http://www.nps.gov/home">www.nps.gov/home</a><br />\n
LOCATION:
UID:e.41.5104
SEQUENCE:3
DTSTAMP:20260424T111810Z
URL:https://business.beatricechamber.com/events/details/prairie-appreciation-week-at-homestead-national-monument-09-24-2011-5104
END:VEVENT

END:VCALENDAR
