BEGIN:VCALENDAR
VERSION:2.0
PRODID:-//ChamberMaster//Event Calendar 2.0//EN
METHOD:PUBLISH
X-PUBLISHED-TTL:P3D
REFRESH-INTERVAL:P3D
CALSCALE:GREGORIAN
BEGIN:VEVENT
DTSTART;VALUE=DATE:20110921
DTEND;VALUE=DATE:20110922
TRANSP:TRANSPARENT
X-MICROSOFT-CDO-ALLDAYEVENT:TRUE
SUMMARY:Prairie Walk
DESCRIPTION:Prairie Walk\n\nWednesday\, September 21\n\n6:30 pm\n\n\n\nEnjoy a slow stroll through a Nebraska prairie while learning about the plants growing there.\n\n\n\nLocation:  Southeast Community College North Parking Lot.  Take Hwy 136 west out of Beatrice and turn west (right) onto W. Scott Rd.  The prairie is located on the north edge of the college entrance road.  Long pants and sturdy shoes are recommended.\n\n\n\nLead by: Michele Fuhrer Hurt\n\nmichele.fuhrer-hurt@nebraska.gov (402)433-5077\n\nNebraska Game & Parks
X-ALT-DESC;FMTTYPE=text/html:Prairie Walk<br />\nWednesday\, September 21<br />\n6:30 pm<br />\n<br />\nEnjoy a slow stroll through a Nebraska prairie while learning about the plants growing there.<br />\n<br />\nLocation:&nbsp\; Southeast Community College North Parking Lot.&nbsp\; Take Hwy 136 west out of Beatrice and turn west (right) onto W. Scott Rd.&nbsp\; The prairie is located on the north edge of the college entrance road.&nbsp\; Long pants and sturdy shoes are recommended.<br />\n<br />\nLead by: Michele Fuhrer Hurt<br />\n<a href="mailto:michele.fuhrer-hurt@nebraska.gov">michele.fuhrer-hurt@nebraska.gov</a> (402)433-5077<br />\nNebraska Game &amp\; Parks
LOCATION:
UID:e.41.5122
SEQUENCE:3
DTSTAMP:20260424T122820Z
URL:https://business.beatricechamber.com/events/details/prairie-walk-09-21-2011-5122
END:VEVENT

END:VCALENDAR
