BEGIN:VCALENDAR
VERSION:2.0
PRODID:-//ChamberMaster//Event Calendar 2.0//EN
METHOD:PUBLISH
X-PUBLISHED-TTL:P3D
REFRESH-INTERVAL:P3D
CALSCALE:GREGORIAN
BEGIN:VEVENT
DTSTART:20100626T160000Z
DTEND:20100626T210000Z
X-MICROSOFT-CDO-ALLDAYEVENT:FALSE
SUMMARY:Prairieland Dairy Day 6/26/10
DESCRIPTION:Pairieland Dairy Day Saturday\, June 2611 a.m. - 4 p.m. East of Firth on the corner of 134th and Pella Road Interested in the dairy industry?  Learn through vendors\, the Kid pavilion\, and guided tours.  Kid pavilon will include barrel rides\, milk truck rides\, face painting\, a straw castle\, a petting zoo and other activities. Barbecue beef\, chips\, vegetables and milk will be served.  Pairieland Dairy Ice Cream will also be served for the very first time!
X-ALT-DESC;FMTTYPE=text/html:<div><span style="font-size: medium">Pairieland Dairy Day</span></div><div>&nbsp\;</div><div><span style="font-size: medium">Saturday\, June 26</span></div><div><span style="font-size: medium">11 a.m. - 4 p.m.</span></div><div>&nbsp\;</div><div>East of Firth on the corner of 134th and Pella Road</div><div>&nbsp\;</div><div>Interested in the dairy industry?&nbsp\; Learn through vendors\, the Kid pavilion\, and&nbsp\;guided tours.&nbsp\; Kid pavilon will include barrel rides\, milk truck rides\, face painting\, a straw castle\, a petting zoo and other activities.</div><div>&nbsp\;</div><div>Barbecue beef\, chips\, vegetables and milk will be served.&nbsp\; Pairieland Dairy Ice Cream will also be served for the very first time!&nbsp\;</div>
LOCATION:
UID:e.41.2032
SEQUENCE:3
DTSTAMP:20260425T105621Z
URL:https://business.beatricechamber.com/events/details/prairieland-dairy-day-6-26-10-06-26-2010-2032
END:VEVENT

END:VCALENDAR
