BEGIN:VCALENDAR
VERSION:2.0
PRODID:-//ChamberMaster//Event Calendar 2.0//EN
METHOD:PUBLISH
X-PUBLISHED-TTL:P3D
REFRESH-INTERVAL:P3D
CALSCALE:GREGORIAN
BEGIN:VEVENT
DTSTART:20120531T224500Z
DTEND:20120601T000000Z
X-MICROSOFT-CDO-ALLDAYEVENT:FALSE
SUMMARY:Premier Designs Jewelry
DESCRIPTION:You are invited to join us for a very special evening to learn more about Premier Designs Jewelry! \n\n\n\nAt Holiday Inn Express\n\n4005 N 6th St\n\nBeatrice\, NE\n\n\n\nCome and find out how Premier Designs could meet your needs! Spring fashion tips and trends! Bring a friend!\n\n\n\nEvery guest will receive a piece of Premier Designs jewelry for FREE!\n\nSummertime Treat~Spend $75\, select ONE item $40 or less for $5!\n\n\n\nRSVP: Lona Anderson ~ 402-416-5700
X-ALT-DESC;FMTTYPE=text/html:You are invited&nbsp\;to join us for a very&nbsp\;special evening to learn more about Premier Designs&nbsp\;Jewelry!&nbsp\;<br />\n<br />\nAt Holiday Inn Express<br />\n4005&nbsp\;N 6th St<br />\nBeatrice\, NE<br />\n<br />\nCome and find out how Premier&nbsp\;Designs could meet your needs!&nbsp\;Spring fashion tips and trends! Bring a friend!<br />\n<br />\nEvery guest&nbsp\;will receive a piece of Premier Designs jewelry for FREE!<br />\nSummertime Treat~Spend&nbsp\;$75\, select ONE item $40 or less&nbsp\;for $5!<br />\n<br />\nRSVP:&nbsp\;Lona&nbsp\;Anderson&nbsp\;~ 402-416-5700<br />\n<br />\n
LOCATION:
UID:e.41.5724
SEQUENCE:3
DTSTAMP:20260422T142551Z
URL:https://business.beatricechamber.com/events/details/premier-designs-jewelry-05-31-2012-5724
END:VEVENT

END:VCALENDAR
