BEGIN:VCALENDAR
VERSION:2.0
PRODID:-//ChamberMaster//Event Calendar 2.0//EN
METHOD:PUBLISH
X-PUBLISHED-TTL:P3D
REFRESH-INTERVAL:P3D
CALSCALE:GREGORIAN
BEGIN:VEVENT
DTSTART:20120902T180000Z
DTEND:20120902T180000Z
X-MICROSOFT-CDO-ALLDAYEVENT:FALSE
SUMMARY:Presentation on the growing demand for sustainable homes and buildings
DESCRIPTION:Presented by Joyce Coppinger\, Executive Director of Green Prairie Foundation for Sustainability out of  Lincoln\, will examine the importance of sustainable building materials and the use of renewable resources in architecture and the design of our homes and buildings.
X-ALT-DESC;FMTTYPE=text/html:Presented by Joyce Coppinger\, Executive Director of Green Prairie Foundation for Sustainability out of&nbsp\; Lincoln\, will examine the importance of sustainable building materials and the use of renewable resources in architecture and the design of our homes and buildings.
LOCATION:Homestead National Monument's Education Center West of Beatrice on Hwy 4
UID:e.41.6623
SEQUENCE:3
DTSTAMP:20260422T091242Z
URL:https://business.beatricechamber.com/events/details/presentation-on-the-growing-demand-for-sustainable-homes-and-buildings-09-02-2012-6623
END:VEVENT

END:VCALENDAR
