BEGIN:VCALENDAR
VERSION:2.0
PRODID:-//ChamberMaster//Event Calendar 2.0//EN
METHOD:PUBLISH
X-PUBLISHED-TTL:P3D
REFRESH-INTERVAL:P3D
CALSCALE:GREGORIAN
BEGIN:VEVENT
DTSTART;VALUE=DATE:20111118
DTEND;VALUE=DATE:20111119
TRANSP:TRANSPARENT
X-MICROSOFT-CDO-ALLDAYEVENT:TRUE
SUMMARY:Prime Rib Dinner - American Legion Post 27
DESCRIPTION:Prime Rib Dinner Fundraiser\n\nsponsored by American Legion Post 27\n\n\n\nFriday\, November 18\n\n5:30 - 7:30 pm\n\n\n\nDonation of $15\n\n\n\nLegion Club\, 701 Dorsey\, Beatrice\, NE\n\n\n\nPublic Invited
X-ALT-DESC;FMTTYPE=text/html:Prime Rib Dinner Fundraiser<br />\nsponsored by American Legion Post 27<br />\n<br />\nFriday\, November 18<br />\n5:30 - 7:30 pm<br />\n<br />\nDonation of $15<br />\n<br />\nLegion Club\, 701 Dorsey\, Beatrice\, NE<br />\n<br />\nPublic Invited
LOCATION:
UID:e.41.5241
SEQUENCE:3
DTSTAMP:20260424T102912Z
URL:https://business.beatricechamber.com/events/details/prime-rib-dinner-american-legion-post-27-11-18-2011-5241
END:VEVENT

END:VCALENDAR
