BEGIN:VCALENDAR
VERSION:2.0
PRODID:-//ChamberMaster//Event Calendar 2.0//EN
METHOD:PUBLISH
X-PUBLISHED-TTL:P3D
REFRESH-INTERVAL:P3D
CALSCALE:GREGORIAN
BEGIN:VEVENT
DTSTART:20090922T170000Z
DTEND:20090922T183500Z
X-MICROSOFT-CDO-ALLDAYEVENT:FALSE
SUMMARY:Progressive Lunch sponsored by Anytime Fitness
DESCRIPTION:Speed NetworkingNew and potential Chamber members are invited to attendProgressive Lunch sponsored by Anytime FitnessHosted at Classic's13th & Oak\, Beatrice NE
X-ALT-DESC;FMTTYPE=text/html:<div>Speed Networking</div><div>New and potential Chamber members are invited to attend</div><div>Progressive Lunch sponsored by Anytime Fitness</div><div>Hosted at Classic&rsquo\;s</div><div>13th &amp\; Oak\, Beatrice NE</div>
LOCATION:
UID:e.41.1431
SEQUENCE:3
DTSTAMP:20260425T234301Z
URL:https://business.beatricechamber.com/events/details/progressive-lunch-sponsored-by-anytime-fitness-09-22-2009-1431
END:VEVENT

END:VCALENDAR
