BEGIN:VCALENDAR
VERSION:2.0
PRODID:-//ChamberMaster//Event Calendar 2.0//EN
METHOD:PUBLISH
X-PUBLISHED-TTL:P3D
REFRESH-INTERVAL:P3D
CALSCALE:GREGORIAN
BEGIN:VEVENT
DTSTART:20110622T140000Z
DTEND:20110622T200000Z
X-MICROSOFT-CDO-ALLDAYEVENT:FALSE
SUMMARY:Publisher to Present Seminar
DESCRIPTION:Author and publishing industry consultant Peter Davidson will present a seminar titled "How to Get Your Book Publised" at Southeast Community College's Continuing Education Center.  Persons waning more information or interested in registering are asked to call 402-437-2700.
X-ALT-DESC;FMTTYPE=text/html:<p>\n	Author and publishing industry consultant Peter Davidson will present a seminar titled &quot\;How to Get Your Book Publised&quot\; at Southeast Community College&#39\;s Continuing Education Center.&nbsp\; Persons waning more information or interested in registering are asked to call 402-437-2700.</p>\n
LOCATION:Continuing Education Center\, 301 S. 68th St. Place\, Lincoln\, NE.
UID:e.41.4859
SEQUENCE:3
DTSTAMP:20260424T165532Z
URL:https://business.beatricechamber.com/events/details/publisher-to-present-seminar-06-22-2011-4859
END:VEVENT

END:VCALENDAR
